BEGIN:VCALENDAR
VERSION:2.0
PRODID:-//IP.Board Calendar 4.6.11//EN
METHOD:PUBLISH
CALSCALE:GREGORIAN
BEGIN:VTIMEZONE
TZID:Europe/London
TZURL:http://tzurl.org/zoneinfo/Europe/London
X-LIC-LOCATION:Europe/London
BEGIN:DAYLIGHT
TZOFFSETFROM:+0000
TZOFFSETTO:+0100
TZNAME:BST
DTSTART:20210328T020000Z
RRULE:FREQ=YEARLY;BYMONTH=3;BYDAY=-1SU
END:DAYLIGHT
BEGIN:STANDARD
TZOFFSETFROM:+0100
TZOFFSETTO:+0000
TZNAME:GMT
DTSTART:20211031T020000Z
RRULE:FREQ=YEARLY;BYMONTH=10;BYDAY=-1SU
END:STANDARD
END:VTIMEZONE
BEGIN:VEVENT
SUMMARY:Чемпионат мира RX\, Euro RX1
DTSTAMP:20211007T122214Z
SEQUENCE:0
UID:17-2-0a1290f9fc01b8f16e0828ffa54764f8@forum.ravenol.ru
ORGANIZER;CN="Антонина":forum@ravenol.su
DESCRIPTION:\n	Чемпионат мира RX\, 
	Euro RX1 состоитс
	я в Португалии в
	 Монталегро на 
	исторической трассе
	 длиной 945 метров\, р
	асположенной на 
	высоте 1000 м на
	д уровнем мо
	ря. Поэтому здесь 
	требуется очень 
	точная настройка 
	двигателя.\n\n\n\
	n	Прямую трансляцию го
	нки вы сможете увидеть на телеканалах  R
	X + / TV Guide\n\n\n\n	 \n\n\n
DTSTART:20211015T210000Z
DTEND:20211016T210000Z
END:VEVENT
BEGIN:VEVENT
SUMMARY:Red Bull Гран-при Америки
DTSTAMP:20210921T120044Z
SEQUENCE:0
UID:6-2-0a1290f9fc01b8f16e0828ffa54764f8@forum.ravenol.ru
ORGANIZER;CN="Антонина":forum@ravenol.su
DESCRIPTION:\n	3-й этап сорев
	нования пройдет
	 1-3 октября в городе О
	стин (Техас).  Тра
	сса протяженностью 
	5\,5 км -одна из самы
	х разнообразны
	х на трассе GP. Напр
	авление движения -
	 против часовой стрел
	ки\, всего 20 поворот
	ов\, 9 поворотов на
	право и 11 поворотов 
	налево. Вместимость составляет 120 000
	 болельщиков.\n\n\n\n	\n
DTSTART;VALUE=DATE:20211001
RRULE:FREQ=DAILY;INTERVAL=1;UNTIL=20211002T000000
END:VEVENT
BEGIN:VEVENT
SUMMARY:4 ЭТАП MRC СИМБИРСКИЙ ТРАКТ 2021
DTSTAMP:20210922T135414Z
SEQUENCE:0
UID:16-2-0a1290f9fc01b8f16e0828ffa54764f8@forum.ravenol.ru
ORGANIZER;CN="Антонина":forum@ravenol.su
DESCRIPTION:\n	23.09.-26.09.21.\n\n\n\n	г.Ульяновс
	к\n\n\n\n	Ульяновская об
	ласть\n\n\n\n	Ульян
	овский\, Кузоватовски
	й\, Тереньгульский\, Цильнинский район
	ы\n\n\n\n	4 этап MOTO RALLY CUP 2021\n\n\n\
	n	Этап Чемпионата 
	Ульяновской облас
	ти по ралли-рейдам\n\n\n\
	n	Этап Чемпионата России 
	по ралли-рейдам \n\n\n\n	Програм
	ма гонки: \n\n\n\n	23 сентября 2021 (четверг)
	.\n\n\n\n	08:00 — 13:00 — АП и ТИ.\n\n\
	n\n	АП — отель «Арт-У
	льяновск». г.Ульяновск\, М
	осковское шоссе\, дом 9\,
	 корпус 1.\n\n\n\n	ТИ 
	— Спортпарк «Симбирский
	». г.Ульяновск\, Московское 
	шоссе\, 5«И».\n\n\n\n	15:00 — п
	убликация стартовой ведомости на
	 ССУ1.\n\n\n\n	16:00 — старт ССУ1.\n\n\n
	\n	19:00 — обязательный бриф
	инг.\n\n\n\n	20:00 — публи
	кация стартовой ведом
	ости СУ2. Участники MRC стартуют
	 только на СУ3.\n\n\n\n	24 сентября 2021 (
	пятница).\n\n\n\n	08:00 —
	 выход первого
	 на лизано до
	 СУ2. Спортпарк «Сим
	бирский»\, г.Ульяновск\, Мо
	сковское шоссе\, 5«И».\n\n\n\n	
	09:00 — старт первого на СУ2.
	 Участники MRC стартуют тол
	ько на СУ3.\n\n\n\n	21:00 — публи
	кация стартовой ведомости на СУ4
	.\n\n\n\n	25 сентября 2021 (суббота).\n\
	n\n\n	08:00 — выход пер
	вого на лиазо
	н до СУ4. Спортпа
	рк «Симбирский»\, г.Ульянов
	ск\, Московское шоссе\, 5«И».\n\n\n
	\n	10:00 — старт первого на СУ
	4.\n\n\n\n	19:00 — публикация пред
	варительных результатов.\n\n\n
	\n	20:00 — церемония награждения.
	\n\n\n\n	26 сентября 2021 (воскресенье).
	\n\n\n\n	Отъезд участников.\n\n\n
DTSTART:20210922T210000Z
DTEND:20210925T210000Z
END:VEVENT
BEGIN:VEVENT
SUMMARY: ADAC GT MASTERS - Заксенринг
DTSTAMP:20210922T132126Z
SEQUENCE:0
UID:15-2-0a1290f9fc01b8f16e0828ffa54764f8@forum.ravenol.ru
ORGANIZER;CN="Антонина":forum@ravenol.su
DESCRIPTION:\n	1-3 октября 
	на старейш
	ей гоночной трас
	се в  Заксенринге (Германия)
	  пройдет соревнование ADAC GT MAS
	TERS – INT. ЧЕМПИОНАТ ГЕРМ
	АНИИ GT\n\n\n\n	ЛИГ
	А СУПЕР СПОРТИВНЫХ А
	ВТОМОБИЛЕЙ СО ЗРИТЕЛЯМ
	И НА ЗАКСЕНРИНГЕ!\n\n\n\n	С 1 по
	 3 октября гонщики автомо
	билей ADAC GT Masters будут б
	ороться за чемпионские очк
	и от нового Int. Чемпионат Германии GT. \n\n\n
DTSTART:20210930T210000Z
DTEND:20211002T210000Z
END:VEVENT
BEGIN:VEVENT
SUMMARY:Гран-При Формулы 1 в Сочи
DTSTAMP:20210922T124002Z
SEQUENCE:0
UID:12-2-0a1290f9fc01b8f16e0828ffa54764f8@forum.ravenol.ru
ORGANIZER;CN="Антонина":forum@ravenol.su
DESCRIPTION:\n	С 23 по 26 сент
	ября в Сочи прой
	дет Гран-При Ро
	ссии Формулы 1
	. Помимо свобо
	дных заездов\
	, квалификаци
	и и гонки основной 
	серии Ф1 пройдет гонка по
	ддержки младшей серии Ф2.\n\n\n\n	23 се
	нтября\, четверг\n\n\n\n	09:00 - 19:00 F1 Fan Zone\n
	\n\n\n	24 сентября\, пятница\n\n\n\
	n	Свободные заезды Форму
	лы 2\n\n\n\n	Первые свобод
	ные заезды Формулы 1\n\n\n
	\n	Квалификация Формулы 2\n
	\n\n\n	Вторые свободные заезды Формулы 1\n\n\n
	\n	09:00 - 19:00 F1 Fan Zone\n\n\n\n	25 сентября\, су
	ббота\n\n\n\n	Первая гонк
	а Формулы 2\n\n\n\n	Третьи
	 свободные заезды Формулы 1
	\n\n\n\n	Квалификация Формулы 1\n\n\n
	\n	Вторая гонка Формулы 2\n\n\n\n	09:00 - 19:00 F1 Fan 
	Zone\n\n\n\n	 \n\n\n
DTSTART:20210922T210000Z
DTEND:20210925T210000Z
END:VEVENT
BEGIN:VEVENT
SUMMARY:DTM 2021 в Хоккенхайме - финал
DTSTAMP:20210922T125155Z
SEQUENCE:0
UID:13-2-0a1290f9fc01b8f16e0828ffa54764f8@forum.ravenol.ru
ORGANIZER;CN="Антонина":forum@ravenol.su
DESCRIPTION:\n	 \n\n\n\n	Финал 
	сезона по традиции про
	йдет в Хоккенхайме 1-3 
	октября (Германия).\n
	\n\n\n	Решится ли 
	битва за титу
	л в Мотодроме
	? За очень н
	емногими искл
	ючениями\, Хокк
	енхайм был местом про
	ведения финала сезона 
	DTM каждый год с 1988 
	года. В этом год
	у первый год 
	серии с мощным
	и спортивными
	 автомобилями G
	T3 снова завершит
	ся на трассе в
	 Баден-Вюртемб
	ерге с ее долг
	ой историей. 
	. Атмосфера с
	тадиона в Мот
	одроме с его 
	высокими триб
	унами уникальн
	а\, трасса - га
	рантия для а
	втоспорта в 
	лучшем виде. Мног
	ократная дуэль ме
	жду Тимо Глоком и
	 Гэри Паффетом в 
	2018 году входит в чи
	сло бесспорных ярк
	их моментов в истории DTM. Кого
	 же назовут чемпионом DTM 2021 года?\n\n\n
DTSTART:20210930T210000Z
DTEND:20211002T210000Z
END:VEVENT
BEGIN:VEVENT
SUMMARY:Чемпионаты мира RX\, RX2e\, Euro RX1\, Euro RX
	3
DTSTAMP:20210922T130831Z
SEQUENCE:0
UID:14-2-0a1290f9fc01b8f16e0828ffa54764f8@forum.ravenol.ru
ORGANIZER;CN="Антонина":forum@ravenol.su
DESCRIPTION:\n	Спа-Франкоршам\, Бельги
	я Чемпионаты мира RX\, RX2e\, Euro RX1\, Eur
	o RX3\n\n\n\n	Состязан
	ие пройдет на сло
	жной\, специальн
	о построенной т
	рассе длиной 9
	13 метров\, рас
	положенной в само
	м центре знаменитого ст
	адиона в Арденнах\n\n\n\n	Список участнико
	в: World RX entry list: RX1 entry list (fiaworldrallycross.com)\n\n\n\n
		                                    Euro RX1 entry lis
	t: Euro RX3 entry list (fiaworldrallycross.com)\n\n\n\n	        
	                            Euro RX3 entry list: Euro RX3 en
	try list (fiaworldrallycross.com)\n\n\n\n	Пря
	мая трансляция будет проходить на RX + / TV G
	uide\n\n
DTSTART:20211008T210000Z
DTEND:20211009T210000Z
END:VEVENT
BEGIN:VEVENT
SUMMARY:\"Формула 1\" Гран-при Турции 2021 г
	ода
DTSTAMP:20210921T115023Z
SEQUENCE:0
UID:5-2-0a1290f9fc01b8f16e0828ffa54764f8@forum.ravenol.ru
ORGANIZER;CN="Антонина":forum@ravenol.su
DESCRIPTION:\n	Гран-при Турции 2
	021 года пройдет в воскресень
	е\, 10 октября\,  58 кругов по трассе I
	ntercity Istanbul Park протяженность
	ю 5\,338 км. Прямая трансл
	ация будет проходит
	ь  на  Матч ТВ.\n\n\
	n\n	Важным изме
	нением в кален
	даре стал пере
	нос Гран-при Т
	урции на одну н
	еделю — вместо 
	3 октября гонка 
	в Стамбуле пройдёт 10 октябр
	я. Подробнее на «Чемпионате»: https://www.champion
	at.com/auto/news-4440229-formula-1-perenesla-gran-pri-turcii-i-predstavila
	-obnovlyonnyj-kalendar-na-sezon-2022.html?utm_source=copypaste\n\n\n\n	 \
	n\n\n\n	\n\n
DTSTART:20211008T130000Z
DTEND:20211010T150000Z
END:VEVENT
BEGIN:VEVENT
SUMMARY:Тайм Аттак  4й этап\, Трек День
DTSTAMP:20210921T123938Z
SEQUENCE:0
UID:9-2-0a1290f9fc01b8f16e0828ffa54764f8@forum.ravenol.ru
ORGANIZER;CN="Антонина":forum@ravenol.su
DESCRIPTION:\n	На Автодроме К
	азан Ринг в субботу\, 
	2 октября\, при техни
	ческой поддержке
	 RAVENOL пройдет 4-й эта
	п  автоспортивн
	ого соревнования 
	Тайм Аттак.\n\n\n\n
		Это тип авт
	оспортивных 
	соревнований
	\, где водител
	и соревнуются 
	не в открытой 
	борьбе\, одн
	овременно про
	езжая по трассе
	\, стараясь зан
	ять лидириру
	ющую позицию\, к
	ак это было бы 
	в классических 
	кольцевых гонк
	ах\, а едут на 
	лучшее время 
	круга. В данном меро
	приятии планируют принять 
	участие 45 гонщиков.\n\n\n\n	Охват
	 Медиа - 500 000 чел. \n\n	Посетителей - 1 000 ч
	ел. \n\n	 \n\n\n\n	 \n\n\n\n	\n\n
DTSTART:20211001T210000Z
RRULE:FREQ=DAILY;INTERVAL=1;UNTIL=20211003T000000
END:VEVENT
BEGIN:VEVENT
SUMMARY:Кубок России по 
	дрэг-рейсингу «RDRC» в зачетных классах «
	FSA»\, «FSB»\, «FSL»
DTSTAMP:20210921T122738Z
SEQUENCE:0
UID:8-2-0a1290f9fc01b8f16e0828ffa54764f8@forum.ravenol.ru
ORGANIZER;CN="Антонина":forum@ravenol.su
DESCRIPTION:\n	 \n\n\n\n	Кубок Росс
	ии по дрэг-рейсингу «RDRC» в 
	зачетных классах «FSA»\, «F
	SB»\, «FSL» будет проход
	ить с 6 по 9 октя
	бря в г.Гро
	зный\, на 
	автодроме «К
	репость Грозная»
	 при технологиче
	ской  поддержке 
	компании RAVENOL
	 -  немец
	кого произ
	водителя с
	мазочных ма
	териалов на
	 основе пол
	иальфаолефинов 
	(ПАО) для автоспорта и т
	яжелых условий эксплу
	атации  \n\n\n\n	В 2021
	 году регламент  Че
	мпионата и Кубка Рос
	сии по дрэг-рейсингу
	 SMP RDRC претерпел
	 изменения.
	 В первую о
	чередь эт
	о касается
	 системы 
	начислени
	я очков уча
	стникам. Т
	еперь соревн
	ования будут
	 проводиться
	 в личном и кома
	ндном зачетах
	. К тому же увелич
	ится количество мест\
	, за которые начисляются б
	аллы.\n\n\n	Так\, если в к
	лассе участвует 17-32
	 спортсмена\, то очки б
	удут начисляться за 1/1
	6 финала. Если в класс
	е 33-64 участника\, то г
	онщики получат б
	аллы уже за 1/32 ф
	инала. Также бон
	усные очки полу
	чат пилоты\, заня
	вшие первые 16 
	мест в квал
	ификации и перв
	ые три места в кажд
	ом раунде квалификацио
	нных заездов.\n\n\n\n	Дел
	ение по классам в 2021 году сохр
	анится прежним: FSL\, FSA\, FSB\
	, которые относятс
	я к Кубку России\,
	 и US\, имеющий
	 статус Чем
	пионата Рос
	сии. Нововвед
	енный командн
	ый зачет буде
	т идти в стат
	усе Кубка Р
	оссии. В нем
	 смогут уча
	ствовать с
	портсмены в
	сех четырех
	 классов. Су
	мма очков 
	команды бу
	дет склады
	ваться из л
	учших результа
	тов её пилотов – по одному резул
	ьтату из каждого класса.\n\n\n\n	\n\n
DTSTART:20211001T210000Z
DTEND:20211002T210000Z
RRULE:FREQ=DAILY;INTERVAL=1;UNTIL=20211003T000000
END:VEVENT
BEGIN:VEVENT
SUMMARY:ULD Джимхана
DTSTAMP:20210921T125333Z
SEQUENCE:0
UID:11-2-0a1290f9fc01b8f16e0828ffa54764f8@forum.ravenol.ru
ORGANIZER;CN="Антонина":forum@ravenol.su
DESCRIPTION:\n	Уральская ли
	га дрифта (ULD)  
	проводит поп
	улярную дриф
	т серию на Ура
	ле с прямой 
	онлайн трансляцией\
	, заезды проводятся прямо в
	 центральном парке.\n\n\
	n\n	RAVENOL - немец
	кий произв
	одитель см
	азочных мат
	ериалов на 
	основе пол
	иальфаолеф
	инов (ПАО) 
	для авто
	спорта и тяж
	елых условий
	 эксплуатации является т
	ехническим партнером  ULD Джимхана  \n\n\n\n
		\n\n
DTSTART:20211009T210000Z
END:VEVENT
BEGIN:VEVENT
SUMMARY:Спа-Франкоршам\, Бельгия 
	Мировые RX\, RX2e\, Евро RX1\, Евро RX3 гонки
DTSTAMP:20210921T120818Z
SEQUENCE:0
UID:7-2-0a1290f9fc01b8f16e0828ffa54764f8@forum.ravenol.ru
ORGANIZER;CN="Антонина":forum@ravenol.su
DESCRIPTION:\n	9-10 октября в
	 городе Спа-Франкоршам\, Бел
	ьгия пройдут Мировые RX\, RX2e\, Евро RX1\, 
	Евро RX3 гонки\n\n\n\n	 \n\n
DTSTART:20211008T210000Z
RRULE:FREQ=DAILY;INTERVAL=1;UNTIL=20211010T000000
END:VEVENT
BEGIN:VEVENT
SUMMARY:Чемпионат Рос
	сии по дрэг-рейсингу «RDRC» в зачетных 
	классах «US»
DTSTAMP:20210921T113551Z
SEQUENCE:0
UID:4-2-0a1290f9fc01b8f16e0828ffa54764f8@forum.ravenol.ru
ORGANIZER;CN="Антонина":forum@ravenol.su
DESCRIPTION:\n	Чемпионат Ро
	ссии по дрэг-рейсин
	гу «RDRC» в зачетн
	ых классах «US» п
	ройдет в г.Грозный 
	на автодроме «Крепость Грозная»  2-3 о
	ктября 2021 года\n\n
DTSTART:20211101T210000Z
END:VEVENT
BEGIN:VEVENT
SUMMARY:Подиум и победа Prema Racing и RAV
	ENOL на пятом этапе Formula 2
DTSTAMP:20210913T091933Z
SEQUENCE:0
UID:3-2-0a1290f9fc01b8f16e0828ffa54764f8@forum.ravenol.ru
ORGANIZER;CN="ravadmin":forum@ravenol.su
DESCRIPTION:\n	Подиумом Роберта Шварцман
	а (Robert Schwartzman) в субботней го
	нке и победой Оскара Пиас
	три (Oscar Piastri) в воскресенье з
	акончился для команды Prema Racin
	g пятый этап Формулы 2 в Монце (Autodromo Nazionale 
	di Monza).\n\n\n\n	\n\n\n	 \n\n\n\n	Ква
	лификация в 
	пятницу пода
	рила Оскару Пи
	астри лучшее время\, поул-
	позицию на старте Основ
	ной гонки (Feature Race) 
	и дополнительны
	е четыре очка в 
	зачет. Для Роб
	ерта пятница\,
	 наоборот\, ста
	ла серьезным р
	азочарованием и
	 принесла лишь 1
	2-й результат. П
	оскольку в Формул
	е 2 реверсивная р
	ешетка составля
	ет 10 позиций\, то 
	и в первом суббот
	нем спринте Роберт т
	акже стартовал 12-м\, в 
	двух шагах позади П
	иастри.\n\n\n\n	На с
	тарте Роберт сумел
	 отыграть сразу два 
	места\, поднявшись 
	в топ-10\, но при 
	этом он перес
	ек белую линию 
	выезда из пит
	лейна и получ
	ил штраф в п
	ять секунд. 
	Весь его да
	льнейший пр
	орыв был ско
	мпрометирован
	 этим штрафом: о
	н сумел поднят
	ься в гонке на 
	третью строч
	ку\, но зате
	м откатился
	 на шестое 
	место пос
	ле добавления 
	штрафного времени. Оскар 
	Пиастри финишировал четвертым.
	\n\n\n\n	\n\n\n	 \n\n\n\n	Во вт
	ором субб
	отнем сприн
	те Роберт Ш
	варцман вно
	вь сумел зако
	нчить заезд тре
	тьим\, соверши
	в несколько к
	расивых обгоно
	в\, и на этот раз з
	аслуженно поднялся 
	на подиум. Пиастри с
	тал седьмым.\n\n\n
	\n	В воскресе
	нье длинную г
	онку с обязате
	льным питстопо
	м Оскар начина
	л с поул-позици
	и\, и на старт
	е ему пришл
	ось отчаянно
	 защищаться о
	т атак еще одног
	о претендента на титул - к
	итайского пилота Гуанью Ч
	жоу (Guanyu Zhou). Но Оск
	ар был быстр
	 и вскоре су
	мел оторва
	ться на ком
	фортный про
	межуток. Роб
	ерт также с
	умел отыгра
	ть несколько
	 мест: весь у
	икэнд он дем
	онстрировал
	 отличный те
	мп. После се
	рии питсто
	пов\, прошед
	ших за авто
	мобилем без
	опасности п
	осле очеред
	ного инцидент
	а\, Роберт сум
	ел еще больше 
	улучшить свое
	 положение\, ока
	завшись на шест
	ой позиции\, зат
	ем поднявшись 
	на пятую\, но после уст
	упив ее на последних кр
	угах Дэну Тиктуму (Dan Ticktum) н
	а свежем комплекте мягких шин.\n
	\n\n\n	\n\n\n	 \n\n\n\n	Тиктум
	 после своего
	 позднего пи
	тстопа сумел
	 без труда от
	ыграть неско
	лько мест\, ст
	ать третьим 
	и приготовит
	ься к дальне
	йшим атакам
	\, но появи
	вшаяся на
	 последн
	их круга
	х машина
	 безопас
	ности поз
	волила Ос
	кару Пиаст
	ри благопо
	лучно заверши
	ть гонку лидером и 
	одержать свою перв
	ую воскресную победу.\n\n\n\
	n	По итогам пятого этапа 
	оба пилота Prema Racing
	 сохранили свои
	 первую и треть
	ю позиции в ли
	чном зачете\
	, а команда еще б
	олее упрочила ли
	дерство среди гон
	очных коллективов.\n\n
	\n\n	Борьба продолжится через две недел
	и в Сочи.\n\n
DTSTART:20210913T120000Z
ATTENDEE;CN="cyberozz";CUTYPE=INDIVIDUAL;PARTSTAT=ACCEPTED:f
	orum@ravenol.su
ATTENDEE;CN="ravadmin";CUTYPE=INDIVIDUAL;PARTSTAT=ACCEPTED:f
	orum@ravenol.su
END:VEVENT
BEGIN:VEVENT
SUMMARY:Еще одно классное событие
DTSTAMP:20210913T085033Z
SEQUENCE:0
UID:2-2-0a1290f9fc01b8f16e0828ffa54764f8@forum.ravenol.ru
ORGANIZER;CN="ravadmin":forum@ravenol.su
DESCRIPTION:\n	Будет вообще супер!\n\n
DTSTART:20210912T210000Z
END:VEVENT
BEGIN:VEVENT
SUMMARY:Тестовое мероприятие
DTSTAMP:20210913T084628Z
SEQUENCE:0
UID:1-2-0a1290f9fc01b8f16e0828ffa54764f8@forum.ravenol.ru
ORGANIZER;CN="ravadmin":forum@ravenol.su
DESCRIPTION:\n	Сегодня будет классно!\n\n
DTSTART;VALUE=DATE:20210913
END:VEVENT
END:VCALENDAR
